BEGIN:VCALENDAR
VERSION:2.0
PRODID:-//Aitoja makuja - ECPv6.15.20//NONSGML v1.0//EN
CALSCALE:GREGORIAN
METHOD:PUBLISH
X-WR-CALNAME:Aitoja makuja
X-ORIGINAL-URL:https://aitojamakuja.fi
X-WR-CALDESC:Tapahtumat Aitoja makuja
REFRESH-INTERVAL;VALUE=DURATION:PT1H
X-Robots-Tag:noindex
X-PUBLISHED-TTL:PT1H
BEGIN:VTIMEZONE
TZID:Europe/Helsinki
BEGIN:DAYLIGHT
TZOFFSETFROM:+0200
TZOFFSETTO:+0300
TZNAME:EEST
DTSTART:20250330T010000
END:DAYLIGHT
BEGIN:STANDARD
TZOFFSETFROM:+0300
TZOFFSETTO:+0200
TZNAME:EET
DTSTART:20251026T010000
END:STANDARD
BEGIN:DAYLIGHT
TZOFFSETFROM:+0200
TZOFFSETTO:+0300
TZNAME:EEST
DTSTART:20260329T010000
END:DAYLIGHT
BEGIN:STANDARD
TZOFFSETFROM:+0300
TZOFFSETTO:+0200
TZNAME:EET
DTSTART:20261025T010000
END:STANDARD
BEGIN:DAYLIGHT
TZOFFSETFROM:+0200
TZOFFSETTO:+0300
TZNAME:EEST
DTSTART:20270328T010000
END:DAYLIGHT
BEGIN:STANDARD
TZOFFSETFROM:+0300
TZOFFSETTO:+0200
TZNAME:EET
DTSTART:20271031T010000
END:STANDARD
END:VTIMEZONE
BEGIN:VEVENT
DTSTART;TZID=Europe/Helsinki:20260423T100000
DTEND;TZID=Europe/Helsinki:20260423T153000
DTSTAMP:20260423T014702
CREATED:20260123T110549Z
LAST-MODIFIED:20260420T090605Z
UID:28005-1776938400-1776958200@aitojamakuja.fi
SUMMARY:Tuotekehitys\, kehittäminen ja koulutus elintarvikealalla – verkostoitumispäivä Lahdessa
DESCRIPTION:Ruokasektorin koordinaatiohanke järjestää eri maakuntien ruoka-alan kehittäjille suunnatun verkostoitumistilaisuuden Lahdessa. Tapaamisessa tarkastellaan elintarvikealan yrittäjyyden edistämistä tuotekehityksen\, kehittämisen ja koulutuksen näkökulmista. \nAika: klo 10 – 15.30 – mahdollisuus tutustua 15.30 lähtien LAB-ammattikorkeakoulun tuotekehitystilaan \nPaikka: LAB-ammattikorkeakoulu Mukkulankatu 19\, Lahti \nTilaisuus on maksuton (lounas omakustanteinen) \nIlmoittaudu 17.4. mennessä: https://www.lyyti.in/verkostoitumispaiva-lahti-2304 \n  \nOhjelma \n9.15 – 10.00 kahvitarjoilu \n10 – 12 puheenvuoroja ja paneelikeskustelu \nYrityspuheenvuoro: TKI-palvelut yritystoiminnan kehittämisen tukena – Juulia Aho\, Mediboost Oy \nUusia tuotteita kauppa- ja tuotekehitysyhteistyöllä – Leena Pölkki\, Jyväskylän ammattikorkeakoulu \nKeskustelu koulutuksen mahdollisuuksista elintarvikealan yrittäjyyden edistämisessä \n\nMaria Tammi\, Hämeen ammattikorkeakoulu / luomukoulutus\nEmma Sivula\, Turun yliopisto / innovaatioviikot\nArja Ylä-Outinen\, Kahvila Majurska Ky / Pastry Saimaa\nJarkko Nikulin\, LAB-ammattikorkeakoulu / tuotekehitystilat\nMarko Viljamaa\, Koulutuskeskus Salpaus / ammatillinen koulutus\n\nKaupungin rooli innovaatioiden edistäjänä ja tukijana – Johanna Särkijärvi\, Lahden kaupunki \n12 – 13 lounas \n13.00 – 14.45 Työpajat \n\nTKI-infrojen käytön tehostaminen kansainvälistymisessä / FinFoodNet-hanke\, Isa Stucki\nLuonnontuotteista kestäviä ratkaisuja – miten kasvun tarpeisiin vastataan? / Keruusta jalostukseen – Kestävää kasvua luonnontuotteista -yhteistyöhanke\, Birgitta Partanen ja Juha Rutanen\nTKI-toimintamallien hyödyt esiin / Emma Sivula\, Päivi Töyli ja Suvi-Tuuli Laaksonen\n\n14.45 – 15.30 Kahvit ja yhteenveto \n15.30 – 16.15 Tutustuminen LAB-ammattikorkeakoulun tuotekehitystiloihin \n  \nTilaisuuden järjestää Verkostoilla voimaa yhteistyöhön – Ruokasektorin koordinaatiohanke yhteistyössä FinFoodNet – FinFoodNet – Suomalaiset Innokaupungit ja alueet vauhdittamassa ruokaratkaisujen vientiä sekä Keruusta jalostukseen – Kestävää kasvua luonnontuotteista -hankkeet. \nLisätietoja: paivi.toyli@helsinki.fi \n********* \nAiemman Ruoka maakuvan\, brändin ja matkailun kärkenä -tilaisuuden antiin voit tutustua täällä.
URL:https://aitojamakuja.fi/event/tuotekehitys-kehittaminen-ja-koulutus-elintarvikealalla-verkostoitumispaiva-lahdessa/
END:VEVENT
END:VCALENDAR