BEGIN:VCALENDAR
VERSION:2.0
PRODID:-//Aitoja makuja - ECPv6.15.20//NONSGML v1.0//EN
CALSCALE:GREGORIAN
METHOD:PUBLISH
X-WR-CALNAME:Aitoja makuja
X-ORIGINAL-URL:https://aitojamakuja.fi
X-WR-CALDESC:Tapahtumat Aitoja makuja
REFRESH-INTERVAL;VALUE=DURATION:PT1H
X-Robots-Tag:noindex
X-PUBLISHED-TTL:PT1H
BEGIN:VTIMEZONE
TZID:Europe/Helsinki
BEGIN:DAYLIGHT
TZOFFSETFROM:+0200
TZOFFSETTO:+0300
TZNAME:EEST
DTSTART:20250330T010000
END:DAYLIGHT
BEGIN:STANDARD
TZOFFSETFROM:+0300
TZOFFSETTO:+0200
TZNAME:EET
DTSTART:20251026T010000
END:STANDARD
BEGIN:DAYLIGHT
TZOFFSETFROM:+0200
TZOFFSETTO:+0300
TZNAME:EEST
DTSTART:20260329T010000
END:DAYLIGHT
BEGIN:STANDARD
TZOFFSETFROM:+0300
TZOFFSETTO:+0200
TZNAME:EET
DTSTART:20261025T010000
END:STANDARD
BEGIN:DAYLIGHT
TZOFFSETFROM:+0200
TZOFFSETTO:+0300
TZNAME:EEST
DTSTART:20270328T010000
END:DAYLIGHT
BEGIN:STANDARD
TZOFFSETFROM:+0300
TZOFFSETTO:+0200
TZNAME:EET
DTSTART:20271031T010000
END:STANDARD
END:VTIMEZONE
BEGIN:VEVENT
DTSTART;TZID=Europe/Helsinki:20260422T083000
DTEND;TZID=Europe/Helsinki:20260422T091500
DTSTAMP:20260422T021449
CREATED:20260402T054330Z
LAST-MODIFIED:20260402T054910Z
UID:28352-1776846600-1776849300@aitojamakuja.fi
SUMMARY:Verkostoaamu: Suomi on EU:n huonoin ruokavientimaa - kuinka teemme kasvuloikan?
DESCRIPTION:Suomi todella on EU:n huonoin ruokavientimaa – mutta miten tähän on päädytty\, ja mitä se tarkoittaa maamme maatalouden kannattavuudelle ja sen tulevaisuudelle? \nVerkostoaamussa 22.4. klo 8:30-9:15 Luonnonvarakeskuksen erikoistutkija Csaba Jansik avaa Suomen ruokaviennin nykytilaa\, ja sitä\, millaisia polkuja meillä on viennin arvon kasvattamiseen. \nMaaseutuverkoston verkostoaamussa pohdimme\, millaisia mahdollisuuksia ruokaviennin kasvattaminen voisi tarjota elintarvikesektorin kannattavuuden parantamiseen: voisiko korkeampi jalostusaste\, uudet markkinat tai parempi brändäys tuoda lisää tuloja? Käymme myös läpi\, mitä esteitä meidän on vielä ylitettävä\, jotta tämä olisi mahdollista. \nLisätiedot ja osallistumislinkki
URL:https://aitojamakuja.fi/event/verkostoaamu-suomi-on-eun-huonoin-ruokavientimaa-kuinka-teemme-kasvuloikan/
END:VEVENT
BEGIN:VEVENT
DTSTART;TZID=Europe/Helsinki:20260422T090000
DTEND;TZID=Europe/Helsinki:20260422T120000
DTSTAMP:20260422T021449
CREATED:20260114T135629Z
LAST-MODIFIED:20260114T135629Z
UID:27895-1776848400-1776859200@aitojamakuja.fi
SUMMARY:Kohti kestävää ruokaketjua -valmennussarja yrityksille: kestävyystiedon ja päästölaskennan työkalut\, Oulu
DESCRIPTION:Kohti kestävää ruokaketjua – valmennussarja elintarvikealan arvoketjun yrityksille 🌱\nTervetuloa mukaan valmennussarjaan\, joka tarjoaa elintarvikealan mikro- ja pk-yrityksille käytännön työkaluja vastuullisuusvaatimuksiin vastaamiseen. \nVastuullisuusvaatimukset kasvavat\, ja rahoittajat\, asiakkaat\, yhteistyökumppanit sekä lainsäädäntö odottavat yrityksiltä läpinäkyvyyttä ja konkreettisia tekoja. \nKohti kestävää ruokaketjua -valmennussarja tarjoaa käytännönläheisiä työkaluja\, joiden avulla:\n✅ Vastaat sidosryhmien vaatimuksiin entistä paremmin\n✅ Rakennat kestävän ja kilpailukykyisen pohjan liiketoiminnan kehittämiselle \nValmennussarja koostuu neljästä toisiaan tukevasta osasta. Suosittelemme vahvasti koko kokonaisuuden läpikäyntiä (voit kuitenkin osallistua myös yksittäisiin osioihin): \n1️⃣ Arvoketjut ja sidosryhmät (24.2.2026\, Oulu)\n2️⃣ Olennaisuusarviointi elintarvikealan arvoketjun näkökulmasta (24.3.2026\, Oulu)\n3️⃣ Kestävyystiedon ja päästölaskennan käytännön työkalut (VSME-standardi) (22.4.2026\, Oulu)\n4️⃣ Tiekarttamallinen vastuullisuuden kehittämissuunnitelma (19.5.2026\, Oulu) \nLisäksi kokonaisuuteen sisältyy yrityskohtaisia neuvontakeskusteluja\, jotka tarjoavat henkilökohtaista sparrausta ja asiantuntijatukea. \nLue lisää ja ilmoittaudu mukaan: Kohti kestävää ruokaketjua -valmennussarja \nValmennussarjan tarjoaa VALUE – Vastuullisuutta liiketoimintaan ja arvoketjuihin -hanke (BusinessOulu ja Oulun ammattikorkeakoulu 2024–2027). Hanke on Euroopan Unionin osarahoittama.
URL:https://aitojamakuja.fi/event/kohti-kestavaa-ruokaketjua-valmennussarja-yrityksille-kestavyystiedon-ja-paastolaskennan-tyokalut-oulu/
END:VEVENT
BEGIN:VEVENT
DTSTART;TZID=Europe/Helsinki:20260422T130000
DTEND;TZID=Europe/Helsinki:20260422T143000
DTSTAMP:20260422T021449
CREATED:20260328T080202Z
LAST-MODIFIED:20260328T080202Z
UID:28340-1776862800-1776868200@aitojamakuja.fi
SUMMARY:Ravintoloiden hävikinhallinnan ja markkinoinnin työkalut\, Pori ja Teams
DESCRIPTION:Oletko ravintola-\, kahvila- tai pitopalveluyrittäjä? Oletko pohtinut sitä\, miten voisit ennaltaehkäistä tai vähentää ruokahävikkiä tai käyttää tuoretta ylijäämäruokaa tavalla\, joka on liiketaloudellisesti kannattavaa ja resurssitehokasta\, ja tekee yrityksestäsi vieläkin vastuullisemman? \nTule kuulemaan ja keskustelemaan siitä\, miten ammattiravintolat voivat hyötyä kiertotalousratkaisuista ja mitä käytännön työkaluja siihen on tarjolla. \n22.4.2026 klo 13-14.30 \nVerkkotilaisuus ja Satakunnan ammattikorkeakoulu\, Pori \nLisätietoja ja ilmoittautuminen! \nOHJELMA \n13:00-13:15\nRavintoloiden kiertotalouden hyödyt\, Altti Näsi\, SAMK\n \n13:15-13:30\nHävikinpunnituksen ja -hallinnan työkalun esittely\, Taina Suomela\, SAMK \n13:30-13:45\nKiertotalousajattelu ruokalistasuunnittelussa\, Pekka Maijala\, Pyhäjärvi-instituutti\n \n13:45-14:00\nVastuullisuusviestinnän ja -markkinoinnin sovelluksen esittely\n\n14:00-14:30\nMiten ravintolasi voi ilmaiseksi ottaa nämä työkalut käyttöönsä\, Altti Näsi\, SAMK \nKeskustelu: Kokemuksia hävikinhallinnasta\,\nMikko Sirola\, WinNovan opetusravintola Raimanni ja Altti Näsi\, SAMK \n14:30 Tapahtuma päättyy \n—\nTapahtuman järjestävät ÄLYÄ matkassa – Satakunnan älykkään ja kestävän matkailun kehittämishanke ja Ce4Re – yhteisten kiertotalousratkaisujen kehittäminen keskisen Itämeren ravintola-alalla -projekti\, jotka molemmat ovat saaneet osarahoitusta EU:lta. 
URL:https://aitojamakuja.fi/event/ravintoloiden-havikinhallinnan-ja-markkinoinnin-tyokalut-pori-ja-teams/
END:VEVENT
END:VCALENDAR